BEGIN:VCALENDAR
VERSION:2.0
PRODID:-//Plone.org//NONSGML plone.app.event//EN
X-WR-TIMEZONE:Europe/Berlin
BEGIN:VEVENT
SUMMARY:'Datorren itzulpengintza. Hiru ahots hiztegiaren beste aldetik' so
 lasaldia\, Iruñean
DTSTART;TZID=Europe/Berlin;VALUE=DATE-TIME:20241017T190000
DTSTAMP;VALUE=DATE-TIME:20260423T191013Z
UID:709a59ce8a8c4afb8700532a29254fbf@eizieplone
CATEGORIES:Ekitaldiak
CREATED;VALUE=DATE-TIME:20241014T091514Z
LAST-MODIFIED;VALUE=DATE-TIME:20241014T091609Z
LOCATION:Laba\, Iruñea
URL:https://eizie.eus/eu/agenda/datorren-itzulpengintza-hiru-ahots-hiztegi
 aren-beste-aldetik-solasaldia-irunean
END:VEVENT
BEGIN:VTIMEZONE
TZID:Europe/Berlin
X-LIC-LOCATION:Europe/Berlin
BEGIN:DAYLIGHT
DTSTART;VALUE=DATE-TIME:20240331T030000
TZNAME:CEST
TZOFFSETFROM:+0100
TZOFFSETTO:+0200
END:DAYLIGHT
END:VTIMEZONE
END:VCALENDAR
