BEGIN:VCALENDAR
VERSION:2.0
PRODID:-//Plone.org//NONSGML plone.app.event//EN
X-WR-TIMEZONE:Europe/Berlin
BEGIN:VEVENT
SUMMARY:'Dantzaldia' (Irène Némirovsky)\, Ordizian
DTSTART;TZID=Europe/Berlin;VALUE=DATE-TIME:20260424T180000
DTSTAMP;VALUE=DATE-TIME:20260420T184939Z
UID:0a4b32b35ceb4365b0bb65cc1602fd5d@eizieplone
CATEGORIES:Irakurle taldeak
CREATED;VALUE=DATE-TIME:20260420T115344Z
LAST-MODIFIED;VALUE=DATE-TIME:20260420T115349Z
LOCATION:Ordiziako Udala
URL:https://eizie.eus/eu/agenda/dantzaldia-irene-nemirovsky-ordizian
END:VEVENT
BEGIN:VTIMEZONE
TZID:Europe/Berlin
X-LIC-LOCATION:Europe/Berlin
BEGIN:DAYLIGHT
DTSTART;VALUE=DATE-TIME:20260329T030000
TZNAME:CEST
TZOFFSETFROM:+0100
TZOFFSETTO:+0200
END:DAYLIGHT
END:VTIMEZONE
END:VCALENDAR
