BEGIN:VCALENDAR
VERSION:2.0
PRODID:-//Plone.org//NONSGML plone.app.event//EN
X-WR-TIMEZONE:Europe/Berlin
BEGIN:VEVENT
SUMMARY:Art Spiegelman-en 'Maus'\, Larrabetzun
DTSTART;TZID=Europe/Berlin;VALUE=DATE-TIME:20230511T190000
DTSTAMP;VALUE=DATE-TIME:20260425T125705Z
UID:3a3ee18256cb4ac7b74c3a5bd108179e@eizievarnish
CATEGORIES:Irakurle taldeak
CREATED;VALUE=DATE-TIME:20230508T094927Z
LAST-MODIFIED;VALUE=DATE-TIME:20230508T095735Z
LOCATION:Hori Bai gaztetxea\, Larrabetzu
URL:https://eizie.eus/eu/agenda/copy_of_art-spiegelman-en-maus-larrabetzun
END:VEVENT
BEGIN:VTIMEZONE
TZID:Europe/Berlin
X-LIC-LOCATION:Europe/Berlin
BEGIN:DAYLIGHT
DTSTART;VALUE=DATE-TIME:20230326T030000
TZNAME:CEST
TZOFFSETFROM:+0100
TZOFFSETTO:+0200
END:DAYLIGHT
END:VTIMEZONE
END:VCALENDAR
