BEGIN:VCALENDAR
VERSION:2.0
PRODID:-//Plone.org//NONSGML plone.app.event//EN
X-WR-TIMEZONE:Europe/Berlin
BEGIN:VEVENT
SUMMARY:Clara Zetkinen 'Faxismoaren aurka borrokan'\, Iruñean
DTSTART;TZID=Europe/Berlin;VALUE=DATE-TIME:20230519T190000
DTSTAMP;VALUE=DATE-TIME:20260425T130136Z
UID:63e8588ea05145169996be32e7fb251e@eizievarnish
CATEGORIES:Irakurle taldeak
CREATED;VALUE=DATE-TIME:20230515T073455Z
LAST-MODIFIED;VALUE=DATE-TIME:20230515T073506Z
LOCATION:Katakrak liburu-denda\, Iruñea
URL:https://eizie.eus/eu/agenda/clara-zetkinen-faxismoaren-aurka-borrokan-
 irunean
END:VEVENT
BEGIN:VTIMEZONE
TZID:Europe/Berlin
X-LIC-LOCATION:Europe/Berlin
BEGIN:DAYLIGHT
DTSTART;VALUE=DATE-TIME:20230326T030000
TZNAME:CEST
TZOFFSETFROM:+0100
TZOFFSETTO:+0200
END:DAYLIGHT
END:VTIMEZONE
END:VCALENDAR
