BEGIN:VCALENDAR
VERSION:2.0
PRODID:-//Plone.org//NONSGML plone.app.event//EN
X-WR-TIMEZONE:Europe/Berlin
BEGIN:VEVENT
SUMMARY:Christopher Okigbo idazle nigeriarraren poemak\, Azpeitian
DTSTART;TZID=Europe/Berlin;VALUE=DATE-TIME:20241120T190000
DTSTAMP;VALUE=DATE-TIME:20260425T192419Z
UID:c9003600b4104db9aa724576f1c53fdb@eizievarnish
CATEGORIES:Ekitaldiak
CREATED;VALUE=DATE-TIME:20241114T104924Z
LAST-MODIFIED;VALUE=DATE-TIME:20241114T104928Z
LOCATION:Dinamoa. Azpeitia
URL:https://eizie.eus/eu/agenda/christopher-okigbo-idazle-nigeriarraren-po
 emak-azpeitian
END:VEVENT
BEGIN:VTIMEZONE
TZID:Europe/Berlin
X-LIC-LOCATION:Europe/Berlin
BEGIN:STANDARD
DTSTART;VALUE=DATE-TIME:20241027T020000
TZNAME:CET
TZOFFSETFROM:+0200
TZOFFSETTO:+0100
END:STANDARD
END:VTIMEZONE
END:VCALENDAR
