BEGIN:VCALENDAR
VERSION:2.0
PRODID:-//Plone.org//NONSGML plone.app.event//EN
X-WR-TIMEZONE:Europe/Berlin
BEGIN:VEVENT
SUMMARY:Boris Pahor-en 'Nekropolia' - Aurkezpena
DTSTART;TZID=Europe/Berlin;VALUE=DATE-TIME:20240915T193000
DTSTAMP;VALUE=DATE-TIME:20260423T190113Z
UID:ce23292449f14bd189309cc7fba8f07f@eizieplone
CATEGORIES:Ekitaldiak
CREATED;VALUE=DATE-TIME:20240912T083959Z
LAST-MODIFIED;VALUE=DATE-TIME:20240912T084100Z
LOCATION:Karrikiri\, Iruñea
URL:https://eizie.eus/eu/agenda/boris-pahor-en-nekropolia-aurkezpena
END:VEVENT
BEGIN:VTIMEZONE
TZID:Europe/Berlin
X-LIC-LOCATION:Europe/Berlin
BEGIN:DAYLIGHT
DTSTART;VALUE=DATE-TIME:20240331T030000
TZNAME:CEST
TZOFFSETFROM:+0100
TZOFFSETTO:+0200
END:DAYLIGHT
END:VTIMEZONE
END:VCALENDAR
