BEGIN:VCALENDAR
VERSION:2.0
PRODID:-//Plone.org//NONSGML plone.app.event//EN
X-WR-TIMEZONE:Europe/Berlin
BEGIN:VEVENT
SUMMARY:Boris Pahor-en 'Nekropolia' - Aurkezpena
DTSTART;TZID=Europe/Berlin;VALUE=DATE-TIME:20241015T193000
DTSTAMP;VALUE=DATE-TIME:20260423T190219Z
UID:25674087ad984911b6dc176b85d99eb5@eizieplone
CATEGORIES:Ekitaldiak
CREATED;VALUE=DATE-TIME:20241014T091352Z
LAST-MODIFIED;VALUE=DATE-TIME:20241014T091359Z
LOCATION:Karrikiri elkartea\, Iruñea
URL:https://eizie.eus/eu/agenda/boris-pahor-en-nekropolia-aurkezpena-1
END:VEVENT
BEGIN:VTIMEZONE
TZID:Europe/Berlin
X-LIC-LOCATION:Europe/Berlin
BEGIN:DAYLIGHT
DTSTART;VALUE=DATE-TIME:20240331T030000
TZNAME:CEST
TZOFFSETFROM:+0100
TZOFFSETTO:+0200
END:DAYLIGHT
END:VTIMEZONE
END:VCALENDAR
