BEGIN:VCALENDAR
VERSION:2.0
PRODID:-//Plone.org//NONSGML plone.app.event//EN
X-WR-TIMEZONE:Europe/Berlin
BEGIN:VEVENT
SUMMARY:Art Spiegelman-en 'Maus'\, Bilbon
DTSTART;TZID=Europe/Berlin;VALUE=DATE-TIME:20230524T183000
DTSTAMP;VALUE=DATE-TIME:20260425T125618Z
UID:dd09cb86e8d542599a8823ea8990651d@eizievarnish
CATEGORIES:Irakurle taldeak
CREATED;VALUE=DATE-TIME:20230523T153658Z
LAST-MODIFIED;VALUE=DATE-TIME:20230523T153703Z
LOCATION:Yohn jauregia (La Bolsa)\, Bilbo
URL:https://eizie.eus/eu/agenda/art-spiegelman-en-maus-bilbon-1
END:VEVENT
BEGIN:VTIMEZONE
TZID:Europe/Berlin
X-LIC-LOCATION:Europe/Berlin
BEGIN:DAYLIGHT
DTSTART;VALUE=DATE-TIME:20230326T030000
TZNAME:CEST
TZOFFSETFROM:+0100
TZOFFSETTO:+0200
END:DAYLIGHT
END:VTIMEZONE
END:VCALENDAR
