BEGIN:VCALENDAR
VERSION:2.0
PRODID:-//Plone.org//NONSGML plone.app.event//EN
X-WR-TIMEZONE:Europe/Berlin
BEGIN:VEVENT
SUMMARY:Arnaldur Indridason-en 'Hilobiko isiltasuna'\, Gaubean
DTSTART;TZID=Europe/Berlin;VALUE=DATE-TIME:20241004T191500
DTSTAMP;VALUE=DATE-TIME:20260423T191013Z
UID:70d1f94610ba433c90ca919c243d9d6d@eizieplone
CATEGORIES:Irakurle taldeak
CREATED;VALUE=DATE-TIME:20241004T083545Z
LAST-MODIFIED;VALUE=DATE-TIME:20241004T083552Z
URL:https://eizie.eus/eu/agenda/arnaldur-indridason-en-hilobiko-isiltasuna
 -gaubean
END:VEVENT
BEGIN:VTIMEZONE
TZID:Europe/Berlin
X-LIC-LOCATION:Europe/Berlin
BEGIN:DAYLIGHT
DTSTART;VALUE=DATE-TIME:20240331T030000
TZNAME:CEST
TZOFFSETFROM:+0100
TZOFFSETTO:+0200
END:DAYLIGHT
END:VTIMEZONE
END:VCALENDAR
