BEGIN:VCALENDAR
VERSION:2.0
PRODID:-//Plone.org//NONSGML plone.app.event//EN
X-WR-TIMEZONE:Europe/Berlin
BEGIN:VEVENT
SUMMARY:'Antzinate klasikoko poetandreen hitz galduak' hitzaldia\, Donosti
 an
DTSTART;TZID=Europe/Berlin;VALUE=DATE-TIME:20230607T183000
DTSTAMP;VALUE=DATE-TIME:20260425T125824Z
UID:f529b1584be04f17908b2bb800a6242a@eizievarnish
CATEGORIES:Ekitaldiak
CREATED;VALUE=DATE-TIME:20230605T082018Z
LAST-MODIFIED;VALUE=DATE-TIME:20230605T082103Z
LOCATION:Gipuzkoako Ateneoa\, Donostia
URL:https://eizie.eus/eu/agenda/antzinate-klasikoko-poetandreen-hitz-galdu
 ak-hitzaldia-donostian
END:VEVENT
BEGIN:VTIMEZONE
TZID:Europe/Berlin
X-LIC-LOCATION:Europe/Berlin
BEGIN:DAYLIGHT
DTSTART;VALUE=DATE-TIME:20230326T030000
TZNAME:CEST
TZOFFSETFROM:+0100
TZOFFSETTO:+0200
END:DAYLIGHT
END:VTIMEZONE
END:VCALENDAR
