BEGIN:VCALENDAR
VERSION:2.0
PRODID:-//Plone.org//NONSGML plone.app.event//EN
X-WR-TIMEZONE:Europe/Berlin
BEGIN:VEVENT
SUMMARY:Annie Ernauxen 'Idazketa labana bat da' liburuaren aurkezpena\, Ir
 uñean
DTSTART;TZID=Europe/Berlin;VALUE=DATE-TIME:20250104T120000
DTSTAMP;VALUE=DATE-TIME:20260425T190047Z
UID:41c6debb18c74079bd02a69db25e4ece@eizievarnish
CATEGORIES:Ekitaldiak
CREATED;VALUE=DATE-TIME:20241226T091927Z
LAST-MODIFIED;VALUE=DATE-TIME:20241226T133900Z
LOCATION:Katakrak liburu-denda
URL:https://eizie.eus/eu/agenda/annie-ernauxen-idazketa-labana-bat-da-libu
 ruaren-aurkezpena-irunean
END:VEVENT
BEGIN:VTIMEZONE
TZID:Europe/Berlin
X-LIC-LOCATION:Europe/Berlin
BEGIN:STANDARD
DTSTART;VALUE=DATE-TIME:20241027T020000
TZNAME:CET
TZOFFSETFROM:+0200
TZOFFSETTO:+0100
END:STANDARD
END:VTIMEZONE
END:VCALENDAR
