BEGIN:VCALENDAR
VERSION:2.0
PRODID:-//Plone.org//NONSGML plone.app.event//EN
X-WR-TIMEZONE:Europe/Berlin
BEGIN:VEVENT
SUMMARY:Annie Ernauxen 'Idazketa labana bat da' liburuaren aurkezpena\, Do
 nostian
DTSTART;TZID=Europe/Berlin;VALUE=DATE-TIME:20241114T110000
DTSTAMP;VALUE=DATE-TIME:20260425T190021Z
UID:adb6e3800a94460eab6f9ef21eea56e9@eizievarnish
CATEGORIES:Ekitaldiak
CREATED;VALUE=DATE-TIME:20241112T101449Z
LAST-MODIFIED;VALUE=DATE-TIME:20241112T101505Z
LOCATION:Donostiako Liburutegi Nagusia
URL:https://eizie.eus/eu/agenda/annie-ernauxen-idazketa-labana-bat-da-libu
 ruaren-aurkezpena-donostian
END:VEVENT
BEGIN:VTIMEZONE
TZID:Europe/Berlin
X-LIC-LOCATION:Europe/Berlin
BEGIN:STANDARD
DTSTART;VALUE=DATE-TIME:20241027T020000
TZNAME:CET
TZOFFSETFROM:+0200
TZOFFSETTO:+0100
END:STANDARD
END:VTIMEZONE
END:VCALENDAR
