BEGIN:VCALENDAR
VERSION:2.0
PRODID:-//Plone.org//NONSGML plone.app.event//EN
X-WR-TIMEZONE:Europe/Berlin
BEGIN:VEVENT
SUMMARY:Annie Ernauxen 'Emakume izoztua'\, Donostian
DTSTART;TZID=Europe/Berlin;VALUE=DATE-TIME:20241216T170000
DTSTAMP;VALUE=DATE-TIME:20260425T185855Z
UID:88bb06ec274c4b9a8663ab2780aafb32@eizievarnish
CATEGORIES:Irakurle taldeak
CREATED;VALUE=DATE-TIME:20241216T131107Z
LAST-MODIFIED;VALUE=DATE-TIME:20241216T131117Z
LOCATION:Lugaritz kultur etxea
URL:https://eizie.eus/eu/agenda/annie-ernauxen-emakume-izoztua-donostian
END:VEVENT
BEGIN:VTIMEZONE
TZID:Europe/Berlin
X-LIC-LOCATION:Europe/Berlin
BEGIN:STANDARD
DTSTART;VALUE=DATE-TIME:20241027T020000
TZNAME:CET
TZOFFSETFROM:+0200
TZOFFSETTO:+0100
END:STANDARD
END:VTIMEZONE
END:VCALENDAR
