BEGIN:VCALENDAR
VERSION:2.0
PRODID:-//Plone.org//NONSGML plone.app.event//EN
X-WR-TIMEZONE:Europe/Berlin
BEGIN:VEVENT
SUMMARY:Annie Ernaux euskaraz - Hitzaldia\, Donostian
DTSTART;TZID=Europe/Berlin;VALUE=DATE-TIME:20230620T190000
DTSTAMP;VALUE=DATE-TIME:20260425T124757Z
UID:9d709705f81f47e3b9a404d0b970c679@eizievarnish
CATEGORIES:Ekitaldiak
CREATED;VALUE=DATE-TIME:20230619T113629Z
LAST-MODIFIED;VALUE=DATE-TIME:20230619T113639Z
LOCATION:Liburutegi Nagusia\, San Jeronimo kalea\, Donostia
URL:https://eizie.eus/eu/agenda/annie-ernaux-euskaraz-hitzaldia-donostian
END:VEVENT
BEGIN:VTIMEZONE
TZID:Europe/Berlin
X-LIC-LOCATION:Europe/Berlin
BEGIN:DAYLIGHT
DTSTART;VALUE=DATE-TIME:20230326T030000
TZNAME:CEST
TZOFFSETFROM:+0100
TZOFFSETTO:+0200
END:DAYLIGHT
END:VTIMEZONE
END:VCALENDAR
