BEGIN:VCALENDAR
VERSION:2.0
PRODID:-//Plone.org//NONSGML plone.app.event//EN
X-WR-TIMEZONE:Europe/Berlin
BEGIN:VEVENT
SUMMARY:Anne Carsonen 'Gorriren autobiografia' - Liburuaren aurkezpena
DTSTART;TZID=Europe/Berlin;VALUE=DATE-TIME:20240620T113000
DTSTAMP;VALUE=DATE-TIME:20260425T204912Z
UID:5385ea2e172540fc8c842d0687552cd0@eizievarnish
CATEGORIES:Ekitaldiak,Literatura unibertsala
CREATED;VALUE=DATE-TIME:20240618T082900Z
LAST-MODIFIED;VALUE=DATE-TIME:20240621T081031Z
LOCATION:Donostiako Udal Liburutegia
URL:https://eizie.eus/eu/agenda/anne-carsonen-gorriren-autobiografia-libur
 uaren-aurkezpena
END:VEVENT
BEGIN:VTIMEZONE
TZID:Europe/Berlin
X-LIC-LOCATION:Europe/Berlin
BEGIN:DAYLIGHT
DTSTART;VALUE=DATE-TIME:20240331T030000
TZNAME:CEST
TZOFFSETFROM:+0100
TZOFFSETTO:+0200
END:DAYLIGHT
END:VTIMEZONE
END:VCALENDAR
