BEGIN:VCALENDAR
VERSION:2.0
PRODID:-//Plone.org//NONSGML plone.app.event//EN
X-WR-TIMEZONE:Europe/Berlin
BEGIN:VEVENT
SUMMARY:Anjel Lertxundiren 'Berbelitzen hiztegia' liburuaren aurkezpena
DTSTART;TZID=Europe/Berlin;VALUE=DATE-TIME:20240916T103000
DTSTAMP;VALUE=DATE-TIME:20260423T192027Z
UID:0d3abe85c68e483a85429ed08c96a89b@eizieplone
CATEGORIES:Ekitaldiak
CREATED;VALUE=DATE-TIME:20240913T111639Z
LAST-MODIFIED;VALUE=DATE-TIME:20240913T111655Z
LOCATION:Donostiako Udal Liburutegia
URL:https://eizie.eus/eu/agenda/anjel-lertxundiren-berbelitzen-hiztegia-li
 buruaren-aurkezpena
END:VEVENT
BEGIN:VTIMEZONE
TZID:Europe/Berlin
X-LIC-LOCATION:Europe/Berlin
BEGIN:DAYLIGHT
DTSTART;VALUE=DATE-TIME:20240331T030000
TZNAME:CEST
TZOFFSETFROM:+0100
TZOFFSETTO:+0200
END:DAYLIGHT
END:VTIMEZONE
END:VCALENDAR
