BEGIN:VCALENDAR
VERSION:2.0
PRODID:-//Plone.org//NONSGML plone.app.event//EN
X-WR-TIMEZONE:Europe/Berlin
BEGIN:VEVENT
SUMMARY:Amèlie Nothomb-en 'Durduzaz eta dardaraz'\, Berriozarren
DTSTART;TZID=Europe/Berlin;VALUE=DATE-TIME:20241010T190000
DTSTAMP;VALUE=DATE-TIME:20260423T191108Z
UID:daba6fdd683341dcbb1c3b9970b14a4b@eizieplone
CATEGORIES:Irakurle taldeak
CREATED;VALUE=DATE-TIME:20241007T104320Z
LAST-MODIFIED;VALUE=DATE-TIME:20241007T104327Z
LOCATION:Berriozarko Liburutegian
URL:https://eizie.eus/eu/agenda/amelie-nothomb-en-durduzaz-eta-dardaraz-be
 rriozarren
END:VEVENT
BEGIN:VTIMEZONE
TZID:Europe/Berlin
X-LIC-LOCATION:Europe/Berlin
BEGIN:DAYLIGHT
DTSTART;VALUE=DATE-TIME:20240331T030000
TZNAME:CEST
TZOFFSETFROM:+0100
TZOFFSETTO:+0200
END:DAYLIGHT
END:VTIMEZONE
END:VCALENDAR
