BEGIN:VCALENDAR
VERSION:2.0
PRODID:-//Plone.org//NONSGML plone.app.event//EN
X-WR-TIMEZONE:Europe/Berlin
BEGIN:VEVENT
SUMMARY:Alice Munroren 'Etsaiak\, lagunak\, ezkongaiak\, maitaleak\, senar
 -emazteak'\, Iruñean
DTSTART;TZID=Europe/Berlin;VALUE=DATE-TIME:20250620T190000
DTSTAMP;VALUE=DATE-TIME:20260425T205720Z
UID:8ad873ce4ec347e1aa3d894c745c308b@eizievarnish
CATEGORIES:Literatura unibertsala,Irakurle taldeak
CREATED;VALUE=DATE-TIME:20250617T080201Z
LAST-MODIFIED;VALUE=DATE-TIME:20250617T080218Z
LOCATION:Katakrak liburu-denda
URL:https://eizie.eus/eu/agenda/alice-munroren-etsaiak-lagunak-ezkongaiak-
 maitaleak-senar-emazteak-irunean
END:VEVENT
BEGIN:VTIMEZONE
TZID:Europe/Berlin
X-LIC-LOCATION:Europe/Berlin
BEGIN:DAYLIGHT
DTSTART;VALUE=DATE-TIME:20250330T030000
TZNAME:CEST
TZOFFSETFROM:+0100
TZOFFSETTO:+0200
END:DAYLIGHT
END:VTIMEZONE
END:VCALENDAR
