BEGIN:VCALENDAR
VERSION:2.0
PRODID:-//Plone.org//NONSGML plone.app.event//EN
X-WR-TIMEZONE:Europe/Berlin
BEGIN:VEVENT
SUMMARY:Adania Shibliren 'Detaile xume bat'\, Gasteizen
DTSTART;TZID=Europe/Berlin;VALUE=DATE-TIME:20241219T193000
DTSTAMP;VALUE=DATE-TIME:20260425T204808Z
UID:50f6c4c6f45c4aa3bf3446fc26dd4f04@eizievarnish
CATEGORIES:Irakurle taldeak
CREATED;VALUE=DATE-TIME:20241025T141646Z
LAST-MODIFIED;VALUE=DATE-TIME:20241025T141652Z
LOCATION:Ignacio Aldekoa Kultur etxea\, Gasteiz
URL:https://eizie.eus/eu/agenda/adania-shibliren-detaile-xume-bat-gasteize
 n
END:VEVENT
BEGIN:VTIMEZONE
TZID:Europe/Berlin
X-LIC-LOCATION:Europe/Berlin
BEGIN:STANDARD
DTSTART;VALUE=DATE-TIME:20241027T020000
TZNAME:CET
TZOFFSETFROM:+0200
TZOFFSETTO:+0100
END:STANDARD
END:VTIMEZONE
END:VCALENDAR
