BEGIN:VCALENDAR
VERSION:2.0
PRODID:-//Plone.org//NONSGML plone.app.event//EN
X-WR-TIMEZONE:Europe/Berlin
BEGIN:VEVENT
SUMMARY:Adania Shibliren 'Detaile xume bat' - Aurkezpena
DTSTART;TZID=Europe/Berlin;VALUE=DATE-TIME:20240619T103000
DTSTAMP;VALUE=DATE-TIME:20260425T204957Z
UID:9c4fb04d49a440beb6a45c5884945475@eizievarnish
CATEGORIES:Ekitaldiak
CREATED;VALUE=DATE-TIME:20240618T133753Z
LAST-MODIFIED;VALUE=DATE-TIME:20240618T133912Z
LOCATION:Donostiako Udal Liburutegia
URL:https://eizie.eus/eu/agenda/adania-shibliren-detaile-xume-bat-aurkezpe
 na
END:VEVENT
BEGIN:VTIMEZONE
TZID:Europe/Berlin
X-LIC-LOCATION:Europe/Berlin
BEGIN:DAYLIGHT
DTSTART;VALUE=DATE-TIME:20240331T030000
TZNAME:CEST
TZOFFSETFROM:+0100
TZOFFSETTO:+0200
END:DAYLIGHT
END:VTIMEZONE
END:VCALENDAR
