BEGIN:VCALENDAR
VERSION:2.0
PRODID:-//Plone.org//NONSGML plone.app.event//EN
X-WR-TIMEZONE:Europe/Berlin
BEGIN:VEVENT
SUMMARY:Adania Shibliren 'Detaile xume bat' - Aurkezpena
DTSTART;TZID=Europe/Berlin;VALUE=DATE-TIME:20241027T123000
DTSTAMP;VALUE=DATE-TIME:20260425T190019Z
UID:7efcb8a08a5f480d8ce8e6bf7fbb0adf@eizievarnish
CATEGORIES:Ekitaldiak
CREATED;VALUE=DATE-TIME:20241025T140608Z
LAST-MODIFIED;VALUE=DATE-TIME:20241025T140655Z
LOCATION:Nafarroako VIII. edizioaren azoka\, Sarasate pasealekua\, Iruñea
URL:https://eizie.eus/eu/agenda/adania-shibliren-detaile-xume-bat-aurkezpe
 na-1
END:VEVENT
BEGIN:VTIMEZONE
TZID:Europe/Berlin
X-LIC-LOCATION:Europe/Berlin
BEGIN:STANDARD
DTSTART;VALUE=DATE-TIME:20241027T020000
TZNAME:CET
TZOFFSETFROM:+0200
TZOFFSETTO:+0100
END:STANDARD
END:VTIMEZONE
END:VCALENDAR
