BEGIN:VCALENDAR
VERSION:2.0
PRODID:-//Plone.org//NONSGML plone.app.event//EN
X-WR-TIMEZONE:Europe/Berlin
BEGIN:VEVENT
SUMMARY:«2025eko bostekoa»  Itzulpengintzaren Nazioarteko Eguna
DTSTART;TZID=Europe/Berlin;VALUE=DATE-TIME:20250930T183000
DTEND;TZID=Europe/Berlin;VALUE=DATE-TIME:20250930T200000
DTSTAMP;VALUE=DATE-TIME:20260425T204806Z
UID:48b25b73c7564466ac53a0479141726c@eizievarnish
CATEGORIES:Ekitaldiak,Literatura unibertsala
CREATED;VALUE=DATE-TIME:20250925T081638Z
LAST-MODIFIED;VALUE=DATE-TIME:20250925T081916Z
LOCATION:Durango\, Gasteiz\, Hazparne\, Iruñea\, Zarautz
URL:https://eizie.eus/eu/agenda/2025eko-bostekoa-itzulpengintzaren-nazioar
 teko-eguna
END:VEVENT
BEGIN:VTIMEZONE
TZID:Europe/Berlin
X-LIC-LOCATION:Europe/Berlin
BEGIN:DAYLIGHT
DTSTART;VALUE=DATE-TIME:20250330T030000
TZNAME:CEST
TZOFFSETFROM:+0100
TZOFFSETTO:+0200
END:DAYLIGHT
END:VTIMEZONE
END:VCALENDAR
