BEGIN:VCALENDAR
VERSION:2.0
PRODID:-//Plone.org//NONSGML plone.app.event//EN
X-WR-TIMEZONE:Europe/Berlin
BEGIN:VEVENT
SUMMARY:Dovlatov-en 'Maleta' Bizkaiko Foru Liburutegiko irakurle klubean
DTSTART;TZID=Europe/Madrid;VALUE=DATE-TIME:20170921T000000
DTEND;TZID=Europe/Madrid;VALUE=DATE-TIME:20170921T000000
DTSTAMP;VALUE=DATE-TIME:20260423T120629Z
UID:a6f8d9c02ca347a2ba25b39646887ff3@eizieplone
CREATED;VALUE=DATE-TIME:20181004T070621Z
LAST-MODIFIED;VALUE=DATE-TIME:20181004T101706Z
URL:https://eizie.eus/es/agenda/1505828595
END:VEVENT
BEGIN:VTIMEZONE
TZID:Europe/Madrid
X-LIC-LOCATION:Europe/Madrid
BEGIN:DAYLIGHT
DTSTART;VALUE=DATE-TIME:20170326T030000
TZNAME:CEST
TZOFFSETFROM:+0100
TZOFFSETTO:+0200
END:DAYLIGHT
END:VTIMEZONE
END:VCALENDAR
